BEGIN:VCALENDAR
VERSION:2.0
PRODID:-//The Historic Afton House Inn - ECPv6.6.4.2//NONSGML v1.0//EN
CALSCALE:GREGORIAN
METHOD:PUBLISH
X-ORIGINAL-URL:https://aftonhouseinn.com
X-WR-CALDESC:Events for The Historic Afton House Inn
REFRESH-INTERVAL;VALUE=DURATION:PT1H
X-Robots-Tag:noindex
X-PUBLISHED-TTL:PT1H
BEGIN:VTIMEZONE
TZID:UTC
BEGIN:STANDARD
TZOFFSETFROM:+0000
TZOFFSETTO:+0000
TZNAME:UTC
DTSTART:20180101T000000
END:STANDARD
END:VTIMEZONE
BEGIN:VEVENT
DTSTART;TZID=UTC:20180315T170000
DTEND;TZID=UTC:20180315T200000
DTSTAMP:20260423T011224
CREATED:20171018T202523Z
LAST-MODIFIED:20180222T140904Z
UID:512-1521133200-1521144000@aftonhouseinn.com
SUMMARY:Ultimate Girls Night Out in Afton!
DESCRIPTION:Girls Night Out – March 15th\, 2018 \n  \nThursday\, March 15\, 2018 \n5 – 8pm or later… \nEvery Third Thursday of each month  is our Girls Night Out. We’ll of course have a complimentary wine tasting at Swirl Wine Bar\, PLUS we’ll have a fun prize game of “Heads and Tails” \nAlso\, our neighboring restaurant\, CURRENT will have 1/2 priced apps from 4 – 7pm AND register to wine prizes. \nFor the Month of March register to Win a My Pillow. (My Pillows are just the best)  \nStay the Night for just $139.00 plus Tax. Enjoy Breakfast in the morning starting at 9am. – Call to get this special rate!  651-436-8883
URL:https://aftonhouseinn.com/event/ultimate-girls-night-afton/
END:VEVENT
END:VCALENDAR